BEGIN:VCALENDAR
VERSION:2.0
CALSCALE:GREGORIAN
METHOD:PUBLISH
PRODID://BRDY//1427683
BEGIN:VEVENT
DTSTAMP:20260423T152600
VTIMEZONE:America/Chicago
DTSTART:20260616T230000Z
DTEND:20260617T000000Z
UID:1427683
SUMMARY:City Council Meeting
LOCATION:, 207 S Elm st, Brady, TX, 76825
DESCRIPTION:City Council Meeting\n\n06/16/26 06:00 PM CST\n - 06/16/26 07:00 PM CST\Description:\nCity of Brady is governed by a Mayor and City Council who are elected by the people of the City. The Mayor and City Council acting together are the Governing Body. All Governing Body members serve three-year terms. The Governing Body, being the elected representative of the people, adopts all ordinances and resolutions and determines the general goals and policies.\nMeeting Times\n \n\n\n	6:00PM the First Tuesday of each month\n	6:00PM the Third Tuesday of each month \n\n \n\nMeeting Location\n \n\n\n	Municipal Court Building: 207 S. Elm Street\n\n\n\nMembers\n\n\n	 \n	Aaron Garcia, Mayor\n	Phone: 325-597-2152\n	Term Expires: May 2024\n	Larry Land\n	Place 1\n	Phone: 325-597-2152\n	Term Expires: May 2024\n	Missi Elliston, Mayor Pro Tem\n	Place 2\n	Phone: 325-597-2152\n	Term Expires: May 2025\n	Jeffrey Sutton\n	Place 3\n	Phone: 325-597-2152\n	Term Expires: May 2025\n	Felix Gomez, Jr.\n	Place 4\n	Phone: 325-597-2152\n	Term Expires: May 2027\n	Gabe Moreno\n	Place 5\n	Phone: 325-597-2152\n	Term Expires: May 2027\n\n\Location:\n\n207 S Elm st\nBrady, TX 76825
X-ALT-DESC;FMTTYPE=text/html:City Council Meeting<br /><br />06/16/26 06:00 PM CST - 06/16/26 07:00 PM CST<br />Description:<br />City of Brady is governed by a Mayor and City Council who are elected by the people of the City. The Mayor and City Council acting together are the Governing Body. All Governing Body members serve three-year terms. The Governing Body, being the elected representative of the people, adopts all ordinances and resolutions and determines the general goals and policies.
<h2>Meeting Times<br />
&nbsp;</h2>

<ul>
	<li><strong>6:00</strong><strong>PM</strong>&nbsp;the&nbsp;<strong>First Tuesday</strong>&nbsp;of each month</li>
	<li><strong>6:00PM</strong>&nbsp;the&nbsp;<strong>Third Tuesday</strong>&nbsp;of each month&nbsp;</li>
</ul>
&nbsp;

<h2>Meeting Location</h2>
&nbsp;

<ul>
	<li><strong>Municipal Court Building:</strong>&nbsp;207 S. Elm Street</li>
</ul>

<h2><br />
Members</h2>

<ul>
	<li>&nbsp;</li>
	<li><a href="mailto:agarcia@bradytx.us"><strong>Aaron Garcia</strong></a>, Mayor<br />
	Phone: 325-597-2152<br />
	<strong>Term Expires:</strong>&nbsp;May 2024</li>
	<li><strong><a aria-label="Larry Land Opens in new window" href="mailto:lland@bradytx.us" rel="noopener" target="_blank">Larry Land</a></strong><br />
	Place 1<br />
	Phone: 325-597-2152<br />
	<strong>Term Expires</strong><strong>:</strong>&nbsp;May 2024</li>
	<li><a href="mailto:mdavis@bradytx.us" target="_self"><strong>Missi Elliston</strong></a>, Mayor Pro Tem<br />
	Place 2<br />
	Phone: 325-597-2152<br />
	<strong>Term Expires:</strong>&nbsp;May 2025</li>
	<li><strong><a href="mailto:jksutton@bradytx.us" target="_self">Jeffrey Sutton</a></strong><br />
	Place 3<br />
	Phone: 325-597-2152<br />
	<strong>Term Expires</strong>: May 2025</li>
	<li><strong><a href="mailto:fgomez@bradytx.us">Felix Gomez, Jr.</a></strong><br />
	Place 4<br />
	Phone: 325-597-2152<br />
	<strong>Term Expires</strong>: May 2027</li>
	<li><a aria-label="Jay May Opens in new window" href="mailto:gmoreno@bradytx.us"><strong>Gabe Moreno</strong></a><br />
	Place 5<br />
	Phone: 325-597-2152<br />
	<strong>Term Expires:</strong>&nbsp;May 2027</li>
</ul>
<br />Location:<br /><br />207 S Elm st<br />Brady, TX 76825
PRIORITY:3
TRANSP:TRANSPARENT
BEGIN:VALARM
TRIGGER:-PT5M
ACTION:DISPLAY
DESCRIPTION:Reminder
END:VALARM
END:VEVENT
END:VCALENDAR
